BEGIN:VCALENDAR
METHOD:PUBLISH
X-WR-TIMEZONE:America/Chicago
PRODID:-//Hold My Ticket.//HMT Web App//EN
CALSCALE:GREGORIAN
METHOD:PUBLISH
X-WR-CALNAME:Threadgill's 
X-WR-CALDESC:Upcoming events at Threadgill's 
BEGIN:VTIMEZONE
TZID:America/Chicago 
END:VTIMEZONE
BEGIN:VEVENT
SEQUENCE:2
TRANSP:OPAQUE
UID:4ddf29ef6fa61f1e5429d3a4372df310
DTSTART:20191124T110000
DTSTAMP:20191124T070122Z
SUMMARY:Sunday Brunch: Jon Emery
DESCRIPTION:Join us for Sunday brunch at Threadgill's every weekend with live music and a delicious breakfast buffet! 

Music on Sunday from 11am - 1pm • $12.95 Adults &amp; $5.95 Children

All you can eat buffet of all your favorites, including:

Made to order Omelette Station, Migas &amp; Salsa, Hash Browns, Garlic Cheese Grits, Refried Beans, Tortillas, Bacon, Sausage, Biscuits &amp; Gravy, Buttermilk Pancakes, Sweet Potato Pancakes, French Toast and Fresh Fruit.
CREATED:20191124T070122Z
URL;VALUE=URI:http://holdmyticket.com/event/347224 

DTEND:20191124T130000
END:VEVENT
END:VCALENDAR