BEGIN:VCALENDAR
METHOD:PUBLISH
X-WR-TIMEZONE:America/Denver
PRODID:-//Hold My Ticket.//HMT Web App//EN
CALSCALE:GREGORIAN
METHOD:PUBLISH
X-WR-CALNAME:KiMo Theatre
X-WR-CALDESC:Upcoming events at KiMo Theatre
BEGIN:VTIMEZONE
TZID:America/Denver 
END:VTIMEZONE
BEGIN:VEVENT
SEQUENCE:2
TRANSP:OPAQUE
UID:e538e666a0f77013b59c1b8cee28e2a6
DTSTART:20191221T140000
DTSTAMP:20191221T100137Z
SUMMARY:The Nutcracker 
DESCRIPTION:The Nutcracker

Celebrating the sights and sounds of the season, Ballet Repertory Theatre presents the beloved holiday tradition, The Nutcracker, full of your favorite mischievous mice, sweet dancing treats, and a sprinkle of sparkling snowflakes! Bring your family and friends to BRT's Nutcracker - an Albuquerque favorite since 1996.

All persons entering the theater must have a ticket (including infants). 
Special prices for groups larger than 10 available, please contact the KiMo Ticket Office for more information.
Late comers will be seated at the discretion of the House Manager.

http://www.brtnm.com/Home.aspx

CREATED:20191221T100137Z
URL;VALUE=URI:http://holdmyticket.com/event/347251 

DTEND:20191221T160000
END:VEVENT
END:VCALENDAR