BEGIN:VCALENDAR
METHOD:PUBLISH
X-WR-TIMEZONE:America/Chicago
PRODID:-//Hold My Ticket.//HMT Web App//EN
CALSCALE:GREGORIAN
METHOD:PUBLISH
X-WR-CALNAME:Threadgill's 
X-WR-CALDESC:Upcoming events at Threadgill's 
BEGIN:VTIMEZONE
TZID:America/Chicago 
END:VTIMEZONE
BEGIN:VEVENT
SEQUENCE:2
TRANSP:OPAQUE
UID:72bfc432f7ccfa74e70456adad234953
DTSTART:20191004T200000
DTSTAMP:20191004T150135Z
SUMMARY:The South Austin Moonlighters
DESCRIPTION:Success for this "True Americana" ensemble has been about embracing a supergroup ethos while shunning supergroup egos. At their best, the band represents not just what's right about the Austin TX music community but about live music as a whole. And they're only getting better.
CREATED:20191004T150135Z
URL;VALUE=URI:http://holdmyticket.com/event/347333 

DTEND:20191004T220000
END:VEVENT
END:VCALENDAR