BEGIN:VCALENDAR
METHOD:PUBLISH
X-WR-TIMEZONE:America/Chicago
PRODID:-//Hold My Ticket.//HMT Web App//EN
CALSCALE:GREGORIAN
METHOD:PUBLISH
X-WR-CALNAME:Threadgill's 
X-WR-CALDESC:Upcoming events at Threadgill's 
BEGIN:VTIMEZONE
TZID:America/Chicago 
END:VTIMEZONE
BEGIN:VEVENT
SEQUENCE:2
TRANSP:OPAQUE
UID:2283f34523d01875d2b783239106bdde
DTSTART:20191011T200000
DTSTAMP:20191011T150126Z
SUMMARY:Austin Lounge Lizards
DESCRIPTION:The Austin Lounge Lizards are arguably the perfect pairing of their hometown's slogan, "Live Music Capital of the World," and its unofficial motto, "Keep Austin Weird." Since 1980, the Lizards have been spoofing topics American families try to avoid at the Thanksgiving table: subjects like politics, religion, romance, and themselves. With pointed lyrics, precise harmonies and instrumental expertise, the band has become legendary for its satirical skewering through song.
CREATED:20191011T150126Z
URL;VALUE=URI:http://holdmyticket.com/event/347335 

DTEND:20191011T220000
END:VEVENT
END:VCALENDAR