BEGIN:VCALENDAR
METHOD:PUBLISH
X-WR-TIMEZONE:America/Chicago
PRODID:-//Hold My Ticket.//HMT Web App//EN
CALSCALE:GREGORIAN
METHOD:PUBLISH
X-WR-CALNAME:Threadgill's 
X-WR-CALDESC:Upcoming events at Threadgill's 
BEGIN:VTIMEZONE
TZID:America/Chicago 
END:VTIMEZONE
BEGIN:VEVENT
SEQUENCE:2
TRANSP:OPAQUE
UID:6ccf89c19bc220864aafbf8ccb90f09f
DTSTART:20191012T200000
DTSTAMP:20191012T150140Z
SUMMARY:The Eggmen
DESCRIPTION:The Eggmen are Austin's premier Beatles Tribute band and have won Austin Chronicle's Award for "Best Cover Band" 11 years and counting. In 2005 they won "America's Best Tribute Band" at the National Music Awards. $12 advance / $15 day of show. 
CREATED:20191012T150140Z
URL;VALUE=URI:http://holdmyticket.com/event/347336 

DTEND:20191012T220000
END:VEVENT
END:VCALENDAR