BEGIN:VCALENDAR
METHOD:PUBLISH
X-WR-TIMEZONE:America/Chicago
PRODID:-//Hold My Ticket.//HMT Web App//EN
CALSCALE:GREGORIAN
METHOD:PUBLISH
X-WR-CALNAME:Threadgill's 
X-WR-CALDESC:Upcoming events at Threadgill's 
BEGIN:VTIMEZONE
TZID:America/Chicago 
END:VTIMEZONE
BEGIN:VEVENT
SEQUENCE:2
TRANSP:OPAQUE
UID:8fde3d3a8f04a8608d87b6b31d7e02f7
DTSTART:20191018T200000
DTSTAMP:20191018T150128Z
SUMMARY:The Footnotes
DESCRIPTION:Veteran singer-guitarist songwriter, Rick Eakens, from Las Cruces, New Mexico, has led The Footnotes on and off for most of his life, crafting the sound in his head into rootsy rock 'n' roll . With the early Beatles and Buddy Holly as his touchstones, Rick and The Footnotes' embody the unpretentious attitude, catchy songcraft and high-energy abandon of the vintage classics that originally inspired him to make music. 
CREATED:20191018T150128Z
URL;VALUE=URI:http://holdmyticket.com/event/347337 

DTEND:20191018T220000
END:VEVENT
END:VCALENDAR