BEGIN:VCALENDAR
METHOD:PUBLISH
X-WR-TIMEZONE:America/Chicago
PRODID:-//Hold My Ticket.//HMT Web App//EN
CALSCALE:GREGORIAN
METHOD:PUBLISH
X-WR-CALNAME:Threadgill's 
X-WR-CALDESC:Upcoming events at Threadgill's 
BEGIN:VTIMEZONE
TZID:America/Chicago 
END:VTIMEZONE
BEGIN:VEVENT
SEQUENCE:2
TRANSP:OPAQUE
UID:dd44f594d2e8892b891e0798227f50d7
DTSTART:20191025T200000
DTSTAMP:20191025T150202Z
SUMMARY:The Flyin' A's: Jenny Reynolds and Mare Wakefield
DESCRIPTION:The Flyin' A's perform Americana with a Texas Kick. 
This husband and wife duo hails from Austin, Texas.  This high energy duo is famous for their top notch songwriting, breathtaking harmonies, and exceptional live performance.  Their latest album You Drive Me Crazy was selected to be on the 2017 first round Grammy Ballot and has taken them on tour around the US, UK, EU and now they are headed to NZ for the first time. 
CREATED:20191025T150202Z
URL;VALUE=URI:http://holdmyticket.com/event/347339 

DTEND:20191025T220000
END:VEVENT
END:VCALENDAR