BEGIN:VCALENDAR
METHOD:PUBLISH
X-WR-TIMEZONE:America/Chicago
PRODID:-//Hold My Ticket.//HMT Web App//EN
CALSCALE:GREGORIAN
METHOD:PUBLISH
X-WR-CALNAME:Threadgill's 
X-WR-CALDESC:Upcoming events at Threadgill's 
BEGIN:VTIMEZONE
TZID:America/Chicago 
END:VTIMEZONE
BEGIN:VEVENT
SEQUENCE:2
TRANSP:OPAQUE
UID:5ae7ae73f7312a8a1180a489f0234a68
DTSTART:20191026T200000
DTSTAMP:20191026T150113Z
SUMMARY:The Belle Sounds
DESCRIPTION:California natives turned Austin mainstays have made a name for themselves as seductive indie pop rock aficionados. Their sound at different times will evoke a modern Fleetwood Mac,Neko Case,Aimee Mann,The Shins or Jenny Lewis and yet they stand out with their effortless melodies, floating guitars and reflective storytelling.

CREATED:20191026T150113Z
URL;VALUE=URI:http://holdmyticket.com/event/347340 

DTEND:20191026T220000
END:VEVENT
END:VCALENDAR