BEGIN:VCALENDAR
METHOD:PUBLISH
X-WR-TIMEZONE:America/Denver
PRODID:-//Hold My Ticket.//HMT Web App//EN
CALSCALE:GREGORIAN
METHOD:PUBLISH
X-WR-CALNAME:Jewish Community Center-Virtual
X-WR-CALDESC:Upcoming events at Jewish Community Center-Virtual
BEGIN:VTIMEZONE
TZID:America/Denver 
END:VTIMEZONE
BEGIN:VEVENT
SEQUENCE:2
TRANSP:OPAQUE
UID:dadf47b923f3299f8f8e0a3c2be99fdf
DTSTART:20191020T150000
DTSTAMP:20191020T100130Z
SUMMARY:Jamie Bernstein | Famous Father Girl: A Memoir of Growing Up Bernstein
DESCRIPTION:
CREATED:20191020T100130Z
URL;VALUE=URI:http://holdmyticket.com/event/347397 

DTEND:20191020T170000
END:VEVENT
END:VCALENDAR