BEGIN:VCALENDAR
METHOD:PUBLISH
X-WR-TIMEZONE:America/Denver
PRODID:-//Hold My Ticket.//HMT Web App//EN
CALSCALE:GREGORIAN
METHOD:PUBLISH
X-WR-CALNAME:Jewish Community Center-Virtual
X-WR-CALDESC:Upcoming events at Jewish Community Center-Virtual
BEGIN:VTIMEZONE
TZID:America/Denver 
END:VTIMEZONE
BEGIN:VEVENT
SEQUENCE:2
TRANSP:OPAQUE
UID:dd163be6a7cfbeb3b3f3d963aaf9909f
DTSTART:20191022T190000
DTSTAMP:20191022T140135Z
SUMMARY:Ronald Balson | The Girl from Berlin: A Novel
DESCRIPTION:
CREATED:20191022T140135Z
URL;VALUE=URI:http://holdmyticket.com/event/347409 

DTEND:20191022T210000
END:VEVENT
END:VCALENDAR