BEGIN:VCALENDAR
METHOD:PUBLISH
X-WR-TIMEZONE:America/Denver
PRODID:-//Hold My Ticket.//HMT Web App//EN
CALSCALE:GREGORIAN
METHOD:PUBLISH
X-WR-CALNAME:Jewish Community Center-Virtual
X-WR-CALDESC:Upcoming events at Jewish Community Center-Virtual
BEGIN:VTIMEZONE
TZID:America/Denver 
END:VTIMEZONE
BEGIN:VEVENT
SEQUENCE:2
TRANSP:OPAQUE
UID:41b1ebe3a2155ce94dbace50b2a4b69c
DTSTART:20191023T113000
DTSTAMP:20191023T070101Z
SUMMARY:Elana Horwich | Meal and a Spiel: How to Be a Badass in the Kitchen 
DESCRIPTION:
CREATED:20191023T070101Z
URL;VALUE=URI:http://holdmyticket.com/event/347410 

DTEND:20191023T133000
END:VEVENT
END:VCALENDAR