BEGIN:VCALENDAR
METHOD:PUBLISH
X-WR-TIMEZONE:America/Denver
PRODID:-//Hold My Ticket.//HMT Web App//EN
CALSCALE:GREGORIAN
METHOD:PUBLISH
X-WR-CALNAME:Jewish Community Center-Virtual
X-WR-CALDESC:Upcoming events at Jewish Community Center-Virtual
BEGIN:VTIMEZONE
TZID:America/Denver 
END:VTIMEZONE
BEGIN:VEVENT
SEQUENCE:2
TRANSP:OPAQUE
UID:04e160bc246d3aaa16113621018a36b3
DTSTART:20191028T190000
DTSTAMP:20191028T140132Z
SUMMARY:Ariel Burger | Witness: Lessons from Elie Wiesel's Classroom
DESCRIPTION:
CREATED:20191028T140132Z
URL;VALUE=URI:http://holdmyticket.com/event/347412 

DTEND:20191028T210000
END:VEVENT
END:VCALENDAR