BEGIN:VCALENDAR
METHOD:PUBLISH
X-WR-TIMEZONE:America/Denver
PRODID:-//Hold My Ticket.//HMT Web App//EN
CALSCALE:GREGORIAN
METHOD:PUBLISH
X-WR-CALNAME:Jewish Community Center-Virtual
X-WR-CALDESC:Upcoming events at Jewish Community Center-Virtual
BEGIN:VTIMEZONE
TZID:America/Denver 
END:VTIMEZONE
BEGIN:VEVENT
SEQUENCE:2
TRANSP:OPAQUE
UID:7ef0eff3e511b8724078988be3374726
DTSTART:20191029T190000
DTSTAMP:20191029T140132Z
SUMMARY:Myla Goldberg | Feast Your Eyes: A Novel
DESCRIPTION:
CREATED:20191029T140132Z
URL;VALUE=URI:http://holdmyticket.com/event/347413 

DTEND:20191029T210000
END:VEVENT
END:VCALENDAR