BEGIN:VCALENDAR
METHOD:PUBLISH
X-WR-TIMEZONE:America/Chicago
PRODID:-//Hold My Ticket.//HMT Web App//EN
CALSCALE:GREGORIAN
METHOD:PUBLISH
X-WR-CALNAME:Threadgill's 
X-WR-CALDESC:Upcoming events at Threadgill's 
BEGIN:VTIMEZONE
TZID:America/Chicago 
END:VTIMEZONE
BEGIN:VEVENT
SEQUENCE:2
TRANSP:OPAQUE
UID:89c25d7bb75c968cf27a41ad85179509
DTSTART:20191019T200000
DTSTAMP:20191019T150108Z
SUMMARY:The Staehely Brothers
DESCRIPTION:Austin natives and formerly of the band Spirit, the Staehely Brothers' rich musical history dates back to the classic, 1970s era of rock-n-roll. 
CREATED:20191019T150108Z
URL;VALUE=URI:http://holdmyticket.com/event/347440 

DTEND:20191019T220000
END:VEVENT
END:VCALENDAR