BEGIN:VCALENDAR
METHOD:PUBLISH
X-WR-TIMEZONE:America/Denver
PRODID:-//Hold My Ticket.//HMT Web App//EN
CALSCALE:GREGORIAN
METHOD:PUBLISH
X-WR-CALNAME:St Francis Auditorium at the New Mexico Museum of Art
X-WR-CALDESC:Upcoming events at St Francis Auditorium at the New Mexico Museum of Art
BEGIN:VTIMEZONE
TZID:America/Denver 
END:VTIMEZONE
BEGIN:VEVENT
SEQUENCE:2
TRANSP:OPAQUE
UID:7e717359e72523139815ad25c2c4fd2f
DTSTART:20200311T193000
DTSTAMP:20200311T150154Z
SUMMARY:Altan
DESCRIPTION:No Irish traditional band in the last dozen years has had a wider impact on audiences and music lovers throughout the world than Altan. With their exquisitely produced award-winning recordings, ranging dynamically from the most sensitive and touching old Irish songs all the way to hard hitting reels and jigs, and with their heartwarming, dynamic live performances, Altan have moved audiences from Donegal to Tokyo to Seattle. Throughout, there has been the unwavering commitment of the band to bringing the beauty of traditional music, particularly that of the Donegal fiddlers and singers, to contemporary audiences in a way that brings out all its qualities and destroys none.
CREATED:20200311T150154Z
URL;VALUE=URI:http://holdmyticket.com/event/347447 

DTEND:20200311T220000
END:VEVENT
END:VCALENDAR