BEGIN:VCALENDAR
METHOD:PUBLISH
X-WR-TIMEZONE:America/Los_Angeles
PRODID:-//Hold My Ticket.//HMT Web App//EN
CALSCALE:GREGORIAN
METHOD:PUBLISH
X-WR-CALNAME:Humboldt Brews
X-WR-CALDESC:Upcoming events at Humboldt Brews
BEGIN:VTIMEZONE
TZID:America/Los_Angeles 
END:VTIMEZONE
BEGIN:VEVENT
SEQUENCE:2
TRANSP:OPAQUE
UID:6fe32f5d879e797510c66b576322a781
DTSTART:20190921T213000
DTSTAMP:20190921T170113Z
SUMMARY:Money
DESCRIPTION:MONEY is Humboldt County's own homegrown Pink Floyd tribute.
Since 2015 the band has built a reputation for stellar live shows, delivered in classic 70's quartet style. MONEY has performed several of Pink Floyd's most popular albums in full, and anything is possible when the band takes the stage. Excited to return to Humbrews for a full night of music, with special guest Chris Noonan on Sax and Visuals by Marmalade Sky.
CREATED:20190921T170113Z
URL;VALUE=URI:http://holdmyticket.com/event/347567 

DTEND:20190922T010000
END:VEVENT
END:VCALENDAR