BEGIN:VCALENDAR
METHOD:PUBLISH
X-WR-TIMEZONE:America/Denver
PRODID:-//Hold My Ticket.//HMT Web App//EN
CALSCALE:GREGORIAN
METHOD:PUBLISH
X-WR-CALNAME:South Broadway Cultural Center
X-WR-CALDESC:Upcoming events at South Broadway Cultural Center
BEGIN:VTIMEZONE
TZID:America/Denver 
END:VTIMEZONE
BEGIN:VEVENT
SEQUENCE:2
TRANSP:OPAQUE
UID:3d9528476aa81447dd20871fc3223315
DTSTART:20191002T193000
DTSTAMP:20191002T150112Z
SUMMARY:Bobby Rush
DESCRIPTION:After decades of tearing up the chitlin' circuit on a nightly basis with his sweaty, no-holds-barred funkfests, Bobby has thoroughly broken through to the mainstream. He won a long-overdue 2017 Grammy for his spectacular album Porcupine Meat and consistently tours the globe as a headliner. What's more, Bobby's brand-new album "Sitting on Top of the Blues" on his own Deep Rush imprint (distributed by Thirty Tigers) promises to further spread the news that this revered legend, well past 80 years of age even if his stratospheric energy level belies the calendar, is bigger and badder and bolder than ever.
CREATED:20191002T150112Z
URL;VALUE=URI:http://holdmyticket.com/event/347756 

DTEND:20191002T220000
END:VEVENT
END:VCALENDAR