BEGIN:VCALENDAR
METHOD:PUBLISH
X-WR-TIMEZONE:America/Chicago
PRODID:-//Hold My Ticket.//HMT Web App//EN
CALSCALE:GREGORIAN
METHOD:PUBLISH
X-WR-CALNAME:Threadgill's 
X-WR-CALDESC:Upcoming events at Threadgill's 
BEGIN:VTIMEZONE
TZID:America/Chicago 
END:VTIMEZONE
BEGIN:VEVENT
SEQUENCE:2
TRANSP:OPAQUE
UID:9d177f9f1ffa3d59e5ffa2775d3a197c
DTSTART:20190924T170000
DTSTAMP:20190924T120138Z
SUMMARY:HAAM Day: Under 18 Showcase 
DESCRIPTION:Celebrate HAAM Day at our under 18 showcase at Threadgill's!
Music from School of Rock Austin, Red-E and The Minor Keys - this is the perfect family-friendly way to spend your HAAM Day for free, while checking out the next generation of Austin music!

Each year on HAAM Day, HAAM hosts over 200 free concerts all across Austin, beginning at 5 AM and continuing late into the night, all in the name of raising money for Austin's musicians. HAAM Day is a city-wide celebration of Austin music and our biggest fundraising event of the year.
CREATED:20190924T120138Z
URL;VALUE=URI:http://holdmyticket.com/event/347758 

DTEND:20190924T203000
END:VEVENT
END:VCALENDAR