BEGIN:VCALENDAR
METHOD:PUBLISH
X-WR-TIMEZONE:America/Chicago
PRODID:-//Hold My Ticket.//HMT Web App//EN
CALSCALE:GREGORIAN
METHOD:PUBLISH
X-WR-CALNAME:Threadgill's 
X-WR-CALDESC:Upcoming events at Threadgill's 
BEGIN:VTIMEZONE
TZID:America/Chicago 
END:VTIMEZONE
BEGIN:VEVENT
SEQUENCE:2
TRANSP:OPAQUE
UID:09e86fb14d5be565b5b1895ccaf96314
DTSTART:20191009T190000
DTSTAMP:20191009T140147Z
SUMMARY:Midweek Modern Troubadours featuring Jana Pochop and Shawnee Kilgore
DESCRIPTION:Join us for our new Wednesday night music series, Midweek Modern Troubadours, featuring Jana Pochop with special guest Shawnee Kilgore. 
CREATED:20191009T140147Z
URL;VALUE=URI:http://holdmyticket.com/event/347979 

DTEND:20191009T210000
END:VEVENT
END:VCALENDAR