BEGIN:VCALENDAR
METHOD:PUBLISH
X-WR-TIMEZONE:America/Chicago
PRODID:-//Hold My Ticket.//HMT Web App//EN
CALSCALE:GREGORIAN
METHOD:PUBLISH
X-WR-CALNAME:Threadgill's 
X-WR-CALDESC:Upcoming events at Threadgill's 
BEGIN:VTIMEZONE
TZID:America/Chicago 
END:VTIMEZONE
BEGIN:VEVENT
SEQUENCE:2
TRANSP:OPAQUE
UID:1b96f924f7109dc2c0bd9d37c277910e
DTSTART:20191101T200000
DTSTAMP:20191101T150137Z
SUMMARY:Songwriters Series: Sarah Sharp and Mitch Watkins
DESCRIPTION:Sarah has recorded, performed, and composed in a variety of guises. She is a solo artist, a film and TV composer, and, most visibly, Sarah has been the stunning siren fronting the acclaimed combo the Jitterbug Vipers, a swinging act who specialize in conjuring playfully irreverent 30s and 40s jazz cool. Sarah is joined by the talented Mitch Watkins. 
CREATED:20191101T150137Z
URL;VALUE=URI:http://holdmyticket.com/event/347984 

DTEND:20191101T220000
END:VEVENT
END:VCALENDAR