BEGIN:VCALENDAR
METHOD:PUBLISH
X-WR-TIMEZONE:America/Chicago
PRODID:-//Hold My Ticket.//HMT Web App//EN
CALSCALE:GREGORIAN
METHOD:PUBLISH
X-WR-CALNAME:Threadgill's 
X-WR-CALDESC:Upcoming events at Threadgill's 
BEGIN:VTIMEZONE
TZID:America/Chicago 
END:VTIMEZONE
BEGIN:VEVENT
SEQUENCE:2
TRANSP:OPAQUE
UID:446f412295eeac8f230a8e90173c9dc5
DTSTART:20191102T200000
DTSTAMP:20191102T150155Z
SUMMARY:Songwriters Series: Michael Fracasso
DESCRIPTION:When Michael Fracasso first moved to Austin, TX in 1990 another songwriter described him as "Buddy Holly, if he had gone to college." His lyrics got him short listed for the Austin Public Library award for Literary Achievement in 2011 and allowed him to tour the world behind 8 albums of original material singing with friends along the way such as Patty Griffin and Lucinda Williams. He also wrote with his friend and producer Charlie Sexton the music for the movie Natural Selection. They are currently collaborating on a new CD, Big Top, due out in early 2019 on Lucky Hound Records.

CREATED:20191102T150155Z
URL;VALUE=URI:http://holdmyticket.com/event/347985 

DTEND:20191102T220000
END:VEVENT
END:VCALENDAR