BEGIN:VCALENDAR
METHOD:PUBLISH
X-WR-TIMEZONE:America/Chicago
PRODID:-//Hold My Ticket.//HMT Web App//EN
CALSCALE:GREGORIAN
METHOD:PUBLISH
X-WR-CALNAME:Threadgill's 
X-WR-CALDESC:Upcoming events at Threadgill's 
BEGIN:VTIMEZONE
TZID:America/Chicago 
END:VTIMEZONE
BEGIN:VEVENT
SEQUENCE:2
TRANSP:OPAQUE
UID:94bc853730c0439f3f7c399c64efb618
DTSTART:20191108T200000
DTSTAMP:20191108T160118Z
SUMMARY:Songwriters Series: Michael Hearne &amp; Shake Russell
DESCRIPTION:Michael Hearne and Shake Russell have joined forces on their first duo recording - "Only As Strong As Your Dreams" released on Howlin' Dog Records! Come out for an evening of incredible music and food. $15 presale, $20 day of show. 

CREATED:20191108T160118Z
URL;VALUE=URI:http://holdmyticket.com/event/347986 

DTEND:20191108T220000
END:VEVENT
END:VCALENDAR