BEGIN:VCALENDAR
METHOD:PUBLISH
X-WR-TIMEZONE:America/Chicago
PRODID:-//Hold My Ticket.//HMT Web App//EN
CALSCALE:GREGORIAN
METHOD:PUBLISH
X-WR-CALNAME:Threadgill's 
X-WR-CALDESC:Upcoming events at Threadgill's 
BEGIN:VTIMEZONE
TZID:America/Chicago 
END:VTIMEZONE
BEGIN:VEVENT
SEQUENCE:2
TRANSP:OPAQUE
UID:03b17cd8a5a119ac27f5f1a9eff2474d
DTSTART:20191109T200000
DTSTAMP:20191109T160129Z
SUMMARY:The Eggmen
DESCRIPTION:The Eggmen are Austin's premier Beatles Tribute band and have won Austin Chronicle's Award for "Best Cover Band" 11 years and counting. In 2005 they won "America's Best Tribute Band" at the National Music Awards. $12 advance / $15 day of show. 
CREATED:20191109T160129Z
URL;VALUE=URI:http://holdmyticket.com/event/347987 

DTEND:20191109T220000
END:VEVENT
END:VCALENDAR