BEGIN:VCALENDAR
METHOD:PUBLISH
X-WR-TIMEZONE:America/Chicago
PRODID:-//Hold My Ticket.//HMT Web App//EN
CALSCALE:GREGORIAN
METHOD:PUBLISH
X-WR-CALNAME:Threadgill's 
X-WR-CALDESC:Upcoming events at Threadgill's 
BEGIN:VTIMEZONE
TZID:America/Chicago 
END:VTIMEZONE
BEGIN:VEVENT
SEQUENCE:2
TRANSP:OPAQUE
UID:3be81af1cb29e185f7e634984831a5e7
DTSTART:20191116T200000
DTSTAMP:20191116T160150Z
SUMMARY:White Ghost Shivers
DESCRIPTION:White Ghost Shivers is an eclectic American band, mixing cabaret, jazz, vaudeville, hokum, western swing, hillbilly, jugband and ragtime into a theatrical and infectious good time. They must be seen to be believed and are winners of 11 Austin Music Awards.
CREATED:20191116T160150Z
URL;VALUE=URI:http://holdmyticket.com/event/347988 

DTEND:20191116T220000
END:VEVENT
END:VCALENDAR