BEGIN:VCALENDAR
METHOD:PUBLISH
X-WR-TIMEZONE:America/Chicago
PRODID:-//Hold My Ticket.//HMT Web App//EN
CALSCALE:GREGORIAN
METHOD:PUBLISH
X-WR-CALNAME:Threadgill's 
X-WR-CALDESC:Upcoming events at Threadgill's 
BEGIN:VTIMEZONE
TZID:America/Chicago 
END:VTIMEZONE
BEGIN:VEVENT
SEQUENCE:2
TRANSP:OPAQUE
UID:8fd7dff71d334d29121a42b8ad83be58
DTSTART:20191123T200000
DTSTAMP:20191123T160123Z
SUMMARY:Guy Forsyth and Jeska Bailey
DESCRIPTION:Quite the dynamic duo, Guy Forsyth and wife Jeska Bailey recently premiered their first CD, 'CONSPIRATORS'.  Consisting of powerful originals and brilliantly chosen and executed covers, this first joint venture combines elemental blues, rootsy folk, rockin' soul with hints of cabaret, creating a sound that's uniquely theirs. Catch them live at Threadgill's!
CREATED:20191123T160123Z
URL;VALUE=URI:http://holdmyticket.com/event/347990 

DTEND:20191123T220000
END:VEVENT
END:VCALENDAR