BEGIN:VCALENDAR
METHOD:PUBLISH
X-WR-TIMEZONE:America/Denver
PRODID:-//Hold My Ticket.//HMT Web App//EN
CALSCALE:GREGORIAN
METHOD:PUBLISH
X-WR-CALNAME:Railyard Park
X-WR-CALDESC:Upcoming events at Railyard Park
BEGIN:VTIMEZONE
TZID:America/Denver 
END:VTIMEZONE
BEGIN:VEVENT
SEQUENCE:2
TRANSP:OPAQUE
UID:60b0baa1e3ceaeefed1c876096c68a85
DTSTART:20190913T183000
DTSTAMP:20190913T140142Z
SUMMARY:FREE Bike-In Concert with Black Joe Lewis and the Honeybears
DESCRIPTION:While working at a pawn shop in Austin, Joe Lewis first picked up the guitar. Shortly thereafter, he immersed himself in the local Red River blues/garage scene, recording and performing with Austin luminaries such as the Weary Boys and Walter Daniels. Upon the release of the 2005 Brian Salvi-produced Black Joe Lewis and The Cold Breeze EP with standout track "Bitch I Love You" featuring Matt Hubbard on Rhodes electric piano and the 2007 album Black Joe Lewis, both released on Italian label Shake Yo Ass Records, the band gained critical national acclaim and toured as openers for Spoon and Okkervil River in 2007.
CREATED:20190913T140142Z
URL;VALUE=URI:http://holdmyticket.com/event/348044 

DTEND:20190913T203000
END:VEVENT
END:VCALENDAR