BEGIN:VCALENDAR
METHOD:PUBLISH
X-WR-TIMEZONE:America/Denver
PRODID:-//Hold My Ticket.//HMT Web App//EN
CALSCALE:GREGORIAN
METHOD:PUBLISH
X-WR-CALNAME:Charlie Five Inc.
X-WR-CALDESC:Upcoming events at Charlie Five Inc.
BEGIN:VTIMEZONE
TZID:America/Denver 
END:VTIMEZONE
BEGIN:VEVENT
SEQUENCE:2
TRANSP:OPAQUE
UID:afb60d6375b4308fd37188dab49ad5df
DTSTART:20191116T170000
DTSTAMP:20191116T130107Z
SUMMARY:3rd Annual Cowboy Gala
DESCRIPTION:Celebrate Veteran's Day with your favorite pair of jeans and your Tony Lama's, while dancing to some live country music and sipping Albuquerque's best craft beer. All proceeds from the event support our mission of providing purpose through horsemanship for our nation's heroes. Enjoy acoustic performances by AJ Johnston, Genevieve Allen, and Tris Munsick. 
CREATED:20191116T130107Z
URL;VALUE=URI:http://holdmyticket.com/event/348650 

DTEND:20191116T220000
END:VEVENT
END:VCALENDAR