BEGIN:VCALENDAR
METHOD:PUBLISH
X-WR-TIMEZONE:America/Denver
PRODID:-//Hold My Ticket.//HMT Web App//EN
CALSCALE:GREGORIAN
METHOD:PUBLISH
X-WR-CALNAME:Special Collections Library
X-WR-CALDESC:Upcoming events at Special Collections Library
BEGIN:VTIMEZONE
TZID:America/Denver 
END:VTIMEZONE
BEGIN:VEVENT
SEQUENCE:2
TRANSP:OPAQUE
UID:fd3c12fb3dd85097d5a5cd70a2e774c7
DTSTART:20200128T120000
DTSTAMP:20200128T103229Z
SUMMARY:Newpoli
DESCRIPTION:Called "...a brilliant outfit... who grab southern Italian traditional music by the neck and recast it in a dramatic style" by Songlines (UK), Newpoli is a unique group with a powerful sound and a 21st century take on their tradition that is beyond comparison.
CREATED:20200128T103229Z
URL;VALUE=URI:http://holdmyticket.com/event/348804 

DTEND:20200128T130000
END:VEVENT
END:VCALENDAR