BEGIN:VCALENDAR
METHOD:PUBLISH
X-WR-TIMEZONE:America/Denver
PRODID:-//Hold My Ticket.//HMT Web App//EN
CALSCALE:GREGORIAN
METHOD:PUBLISH
X-WR-CALNAME:N4th Theater
X-WR-CALDESC:Upcoming events at N4th Theater
BEGIN:VTIMEZONE
TZID:America/Denver 
END:VTIMEZONE
BEGIN:VEVENT
SEQUENCE:2
TRANSP:OPAQUE
UID:d1362a4f04665f9448d5d0872ee3bc21
DTSTART:20200131T130000
DTSTAMP:20200131T090322Z
SUMMARY:Newpoli
DESCRIPTION:Called "...a brilliant outfit... who grab southern Italian traditional music by the neck and recast it in a dramatic style" by Songlines (UK), Newpoli is a unique group with a powerful sound and a 21st century take on their tradition that is beyond comparison.
CREATED:20200131T090322Z
URL;VALUE=URI:http://holdmyticket.com/event/348808 

DTEND:20200131T140000
END:VEVENT
END:VCALENDAR