BEGIN:VCALENDAR
METHOD:PUBLISH
X-WR-TIMEZONE:America/Denver
PRODID:-//Hold My Ticket.//HMT Web App//EN
CALSCALE:GREGORIAN
METHOD:PUBLISH
X-WR-CALNAME:Tractor Brewing Wells Park
X-WR-CALDESC:Upcoming events at Tractor Brewing Wells Park
BEGIN:VTIMEZONE
TZID:America/Denver 
END:VTIMEZONE
BEGIN:VEVENT
SEQUENCE:2
TRANSP:OPAQUE
UID:560bd2b1a94cfd7013bfcf42917cdad3
DTSTART:20191026T190000
DTSTAMP:20191026T140111Z
SUMMARY:Stranger Things Arcade Carnival 3 
DESCRIPTION:It's back! In celebration of Halloween and the hit Netflix show Stranger Things, Tractor Brewing and Blackout Theater Company have teamed up to bring you yet another evening of the Strangest Things in Albuquerque!
CREATED:20191026T140111Z
URL;VALUE=URI:http://holdmyticket.com/event/348814 

DTEND:20191027T020000
END:VEVENT
END:VCALENDAR