BEGIN:VCALENDAR
METHOD:PUBLISH
X-WR-TIMEZONE:America/New_York
PRODID:-//Hold My Ticket.//HMT Web App//EN
CALSCALE:GREGORIAN
METHOD:PUBLISH
X-WR-CALNAME:Thirsty Cowboy
X-WR-CALDESC:Upcoming events at Thirsty Cowboy
BEGIN:VTIMEZONE
TZID:America/New_York 
END:VTIMEZONE
BEGIN:VEVENT
SEQUENCE:2
TRANSP:OPAQUE
UID:8baceee168a83d7811bd2b6025f6418e
DTSTART:20191025T213000
DTSTAMP:20191025T170159Z
SUMMARY:Halloween Party &amp; Costume Contest
DESCRIPTION:
CREATED:20191025T170159Z
URL;VALUE=URI:http://holdmyticket.com/event/348950 

DTEND:20191026T020000
END:VEVENT
END:VCALENDAR