BEGIN:VCALENDAR
METHOD:PUBLISH
X-WR-TIMEZONE:America/Denver
PRODID:-//Hold My Ticket.//HMT Web App//EN
CALSCALE:GREGORIAN
METHOD:PUBLISH
X-WR-CALNAME:The Oriental Theater
X-WR-CALDESC:Upcoming events at The Oriental Theater
BEGIN:VTIMEZONE
TZID:America/Denver 
END:VTIMEZONE
BEGIN:VEVENT
SEQUENCE:2
TRANSP:OPAQUE
UID:ff67a7e9c8aac0b819dd247736484d8e
DTSTART:20191026T200000
DTSTAMP:20191026T150114Z
SUMMARY:Lucha Libre &amp; Laughs: What a Horrible Night to Have A Curse
DESCRIPTION:
CREATED:20191026T150114Z
URL;VALUE=URI:http://holdmyticket.com/event/348961 

DTEND:20191026T230000
END:VEVENT
END:VCALENDAR