BEGIN:VCALENDAR
METHOD:PUBLISH
X-WR-TIMEZONE:America/Chicago
PRODID:-//Hold My Ticket.//HMT Web App//EN
CALSCALE:GREGORIAN
METHOD:PUBLISH
X-WR-CALNAME:Threadgill's 
X-WR-CALDESC:Upcoming events at Threadgill's 
BEGIN:VTIMEZONE
TZID:America/Chicago 
END:VTIMEZONE
BEGIN:VEVENT
SEQUENCE:2
TRANSP:OPAQUE
UID:71d1ffbe88e1425ce40f8a994937f4dd
DTSTART:20191113T190000
DTSTAMP:20191113T150151Z
SUMMARY:Wonder What Wednesdays: Shawnee Kilgore and Suzanna Choffel 
DESCRIPTION:Join Shawnee Kilgore during the Wonder What Wednesday series for a weekly song swap, featuring this week's special guest Suzanna Choffel. Austin native Suzanna Choffel combines sultry blues-tinged vocals with reggae &amp; folk-influenced guitar rhythms to create a unique blend of pop, authentic, poetic &amp; emotional.
CREATED:20191113T150151Z
URL;VALUE=URI:http://holdmyticket.com/event/349411 

DTEND:20191113T210000
END:VEVENT
END:VCALENDAR