BEGIN:VCALENDAR
METHOD:PUBLISH
X-WR-TIMEZONE:America/Chicago
PRODID:-//Hold My Ticket.//HMT Web App//EN
CALSCALE:GREGORIAN
METHOD:PUBLISH
X-WR-CALNAME:Threadgill's 
X-WR-CALDESC:Upcoming events at Threadgill's 
BEGIN:VTIMEZONE
TZID:America/Chicago 
END:VTIMEZONE
BEGIN:VEVENT
SEQUENCE:2
TRANSP:OPAQUE
UID:0ab5c913b15f5dae2d42fe2119c91254
DTSTART:20191127T190000
DTSTAMP:20191127T150150Z
SUMMARY:Wonder What Wednesdays: Shawnee Kilgore and Colin Gilmore
DESCRIPTION:Join Shawnee Kilgore during the Wonder What Wednesday series for a weekly song swap, featuring this week's special guest Colin Gilmore. 
CREATED:20191127T150150Z
URL;VALUE=URI:http://holdmyticket.com/event/349502 

DTEND:20191127T210000
END:VEVENT
END:VCALENDAR