BEGIN:VCALENDAR
METHOD:PUBLISH
X-WR-TIMEZONE:America/Chicago
PRODID:-//Hold My Ticket.//HMT Web App//EN
CALSCALE:GREGORIAN
METHOD:PUBLISH
X-WR-CALNAME:Threadgill's 
X-WR-CALDESC:Upcoming events at Threadgill's 
BEGIN:VTIMEZONE
TZID:America/Chicago 
END:VTIMEZONE
BEGIN:VEVENT
SEQUENCE:2
TRANSP:OPAQUE
UID:f63f3dbfc113ea394406cff219b8ff8b
DTSTART:20191120T190000
DTSTAMP:20191120T150105Z
SUMMARY:Wonder What Wednesdays: Shawnee Kilgore and Raina Rose
DESCRIPTION:Join Shawnee Kilgore during the Wonder What Wednesday series for a weekly song swap, featuring this week's special guest Raina Rose.
CREATED:20191120T150105Z
URL;VALUE=URI:http://holdmyticket.com/event/349503 

DTEND:20191120T210000
END:VEVENT
END:VCALENDAR