BEGIN:VCALENDAR
METHOD:PUBLISH
X-WR-TIMEZONE:America/New_York
PRODID:-//Hold My Ticket.//HMT Web App//EN
CALSCALE:GREGORIAN
METHOD:PUBLISH
X-WR-CALNAME:Xcite Center
X-WR-CALDESC:Upcoming events at Xcite Center
BEGIN:VTIMEZONE
TZID:America/New_York 
END:VTIMEZONE
BEGIN:VEVENT
SEQUENCE:2
TRANSP:OPAQUE
UID:bc9d6c1d82d5a3682f15b596cc1b9d03
DTSTART:20200305T200000
DTSTAMP:20200305T160144Z
SUMMARY:Jo Koy "Just Kidding World Tour"
DESCRIPTION:
CREATED:20200305T160144Z
URL;VALUE=URI:http://holdmyticket.com/event/349542 

DTEND:20200305T213000
END:VEVENT
END:VCALENDAR