BEGIN:VCALENDAR
METHOD:PUBLISH
X-WR-TIMEZONE:America/Denver
PRODID:-//Hold My Ticket.//HMT Web App//EN
CALSCALE:GREGORIAN
METHOD:PUBLISH
X-WR-CALNAME:Sunshine Theater
X-WR-CALDESC:Upcoming events at Sunshine Theater
BEGIN:VTIMEZONE
TZID:America/Denver 
END:VTIMEZONE
BEGIN:VEVENT
SEQUENCE:2
TRANSP:OPAQUE
UID:69d87dfb0f5b45818af76aaa5e8e0924
DTSTART:20220416T184500
DTSTAMP:20220416T215031Z
SUMMARY:Testament - The Bay Strikes Back Tour
DESCRIPTION:NEW DATE 

* Testament * Exodus * Death Angel *


Saturday, April 16, 2022
Doors 6pm | Show 645pm 
Sunshine Theater
ABQ NM
all ages 
Advance tickets - $30 + service charge

Tickets purchased for the April 21, 2020 show will be honored!!

Tickets purchased for the October 12, 2021 show will be honored!!
CREATED:20220416T215031Z
URL;VALUE=URI:http://holdmyticket.com/event/351420 

DTEND:20220416T233000
END:VEVENT
END:VCALENDAR