BEGIN:VCALENDAR
METHOD:PUBLISH
X-WR-TIMEZONE:America/Denver
PRODID:-//Hold My Ticket.//HMT Web App//EN
CALSCALE:GREGORIAN
METHOD:PUBLISH
X-WR-CALNAME:National Hispanic Cultural Center - Bank of America Theatre
X-WR-CALDESC:Upcoming events at National Hispanic Cultural Center - Bank of America Theatre
BEGIN:VTIMEZONE
TZID:America/Denver 
END:VTIMEZONE
BEGIN:VEVENT
SEQUENCE:2
TRANSP:OPAQUE
UID:8916b93ac3716f75903ef5d1288c81e6
DTSTART:20200404T193000
DTSTAMP:20200404T150104Z
SUMMARY:Loudon Wainwright III - New date: November 13
DESCRIPTION:Loudon Wainwright III's long and illustrious career is highlighted by more than two dozen album releases, movie and TV credits, and his autobiography, "Liner Notes" (2017, Penguin/Random House). In 2010, Wainwright won the Grammy for Best Traditional Folk Album for "High Wide &amp; Handsome: The Charlie Poole Project." His 2012 recording, "Older Than My Old Man Now," was named one of NPR's Top 10 Albums of the Year. In 2018, Loudon released his 27th career album to date, "Years In The Making," a retrospective double CD with more than 45 tracks--live performances, demos, outtakes, unreleased songs spanning 50 years.
CREATED:20200404T150104Z
URL;VALUE=URI:http://holdmyticket.com/event/351863 

DTEND:20200404T220000
END:VEVENT
END:VCALENDAR