BEGIN:VCALENDAR
METHOD:PUBLISH
X-WR-TIMEZONE:America/Chicago
PRODID:-//Hold My Ticket.//HMT Web App//EN
CALSCALE:GREGORIAN
METHOD:PUBLISH
X-WR-CALNAME:Threadgill's 
X-WR-CALDESC:Upcoming events at Threadgill's 
BEGIN:VTIMEZONE
TZID:America/Chicago 
END:VTIMEZONE
BEGIN:VEVENT
SEQUENCE:2
TRANSP:OPAQUE
UID:778564bf2fc9f85a92200f23a6376e9b
DTSTART:20191214T200000
DTSTAMP:20191214T160146Z
SUMMARY:Ready Betty Christmas Show
DESCRIPTION:Feeling festive this holiday season? Time warp back to the whimsical world of Vaudeville, Rockabilly, and the Avant-Garde, with music from the 40'-70s Ready Betty's been shakin' booties in Austin since 2014. $10 cover.
CREATED:20191214T160146Z
URL;VALUE=URI:http://holdmyticket.com/event/351903 

DTEND:20191214T220000
END:VEVENT
END:VCALENDAR