BEGIN:VCALENDAR
METHOD:PUBLISH
X-WR-TIMEZONE:America/Chicago
PRODID:-//Hold My Ticket.//HMT Web App//EN
CALSCALE:GREGORIAN
METHOD:PUBLISH
X-WR-CALNAME:Threadgill's 
X-WR-CALDESC:Upcoming events at Threadgill's 
BEGIN:VTIMEZONE
TZID:America/Chicago 
END:VTIMEZONE
BEGIN:VEVENT
SEQUENCE:2
TRANSP:OPAQUE
UID:ce70f8f9b38d824a5efc1895994299bb
DTSTART:20191220T190000
DTSTAMP:20191220T150140Z
SUMMARY:Song Swap: Giulia Millanta, Barbara Nesbitt, and Andrea Magee
DESCRIPTION:Giulia Millanta, Barbara Nesbitt, and Andrea Magee come together for an incredible evening, swapping songs and sharing good music. $10 cover.
CREATED:20191220T150140Z
URL;VALUE=URI:http://holdmyticket.com/event/351904 

DTEND:20191220T210000
END:VEVENT
END:VCALENDAR