BEGIN:VCALENDAR
METHOD:PUBLISH
X-WR-TIMEZONE:America/Chicago
PRODID:-//Hold My Ticket.//HMT Web App//EN
CALSCALE:GREGORIAN
METHOD:PUBLISH
X-WR-CALNAME:Threadgill's 
X-WR-CALDESC:Upcoming events at Threadgill's 
BEGIN:VTIMEZONE
TZID:America/Chicago 
END:VTIMEZONE
BEGIN:VEVENT
SEQUENCE:2
TRANSP:OPAQUE
UID:d7735ba48bfe8e45256e660964c51cd7
DTSTART:20191231T170000
DTSTAMP:20191231T130123Z
SUMMARY:The Eggmen's New Year's Party: Early Show
DESCRIPTION:Join The Eggmen in saying "HAPPY NEW YEAR" - on Liverpool time! Our 6pm equals their midnight, making this a perfect show for kiddos and those that don't want to stay out late. The Eggmen are Austin's premier Beatles Tribute band and have won Austin Chronicle's Award for "Best Cover Band" 11 years and counting. In 2005 they won "America's Best Tribute Band" at the National Music Awards. Early show is $12, kids 8 and under get in free.  
CREATED:20191231T130123Z
URL;VALUE=URI:http://holdmyticket.com/event/351905 

DTEND:20191231T180000
END:VEVENT
END:VCALENDAR