BEGIN:VCALENDAR
METHOD:PUBLISH
X-WR-TIMEZONE:America/Denver
PRODID:-//Hold My Ticket.//HMT Web App//EN
CALSCALE:GREGORIAN
METHOD:PUBLISH
X-WR-CALNAME:The Lensic
X-WR-CALDESC:Upcoming events at The Lensic
BEGIN:VTIMEZONE
TZID:America/Denver 
END:VTIMEZONE
BEGIN:VEVENT
SEQUENCE:2
TRANSP:OPAQUE
UID:fa7d56714256d91ad16b67e15a0000bc
DTSTART:20200305T193000
DTSTAMP:20200305T160144Z
SUMMARY:Allman Betts Band
DESCRIPTION:
CREATED:20200305T160144Z
URL;VALUE=URI:http://holdmyticket.com/event/351923 

DTEND:20200305T220000
END:VEVENT
END:VCALENDAR