BEGIN:VCALENDAR
METHOD:PUBLISH
X-WR-TIMEZONE:America/Denver
PRODID:-//Hold My Ticket.//HMT Web App//EN
CALSCALE:GREGORIAN
METHOD:PUBLISH
X-WR-CALNAME:GiG 
X-WR-CALDESC:Upcoming events at GiG 
BEGIN:VTIMEZONE
TZID:America/Denver 
END:VTIMEZONE
BEGIN:VEVENT
SEQUENCE:2
TRANSP:OPAQUE
UID:825bb6715847f75b09628b6c7ea2afbe
DTSTART:20200122T193000
DTSTAMP:20200122T183825Z
SUMMARY:Sean McConnell -SOLD OUT- 
DESCRIPTION:As instant gratification becomes the norm and certainty is worn as armor, Sean McConnell is choosing patience and ambiguity--especially when it comes to himself. "I think embracing the blurry lines is a sign of getting older and just having more life experience," he says. "It can be healthy to break your own boxes."
CREATED:20200122T183825Z
URL;VALUE=URI:http://holdmyticket.com/event/351982 

DTEND:20200122T210000
END:VEVENT
END:VCALENDAR