BEGIN:VCALENDAR
METHOD:PUBLISH
X-WR-TIMEZONE:America/Denver
PRODID:-//Hold My Ticket.//HMT Web App//EN
CALSCALE:GREGORIAN
METHOD:PUBLISH
X-WR-CALNAME:Tour ABQ at Hotel Albuquerque 
X-WR-CALDESC:Upcoming events at Tour ABQ at Hotel Albuquerque 
BEGIN:VTIMEZONE
TZID:America/Denver 
END:VTIMEZONE
BEGIN:VEVENT
SEQUENCE:2
TRANSP:OPAQUE
UID:b4f8b33ed4b463267b74b229a813a2c6
DTSTART:20191224T170000
DTSTAMP:20191224T130121Z
SUMMARY:The LUX: Christmas Eve Luminaria Tour
DESCRIPTION:
CREATED:20191224T130121Z
URL;VALUE=URI:http://holdmyticket.com/event/352030 

DTEND:20191224T183000
END:VEVENT
END:VCALENDAR