BEGIN:VCALENDAR
METHOD:PUBLISH
X-WR-TIMEZONE:America/Chicago
PRODID:-//Hold My Ticket.//HMT Web App//EN
CALSCALE:GREGORIAN
METHOD:PUBLISH
X-WR-CALNAME:Threadgill's 
X-WR-CALDESC:Upcoming events at Threadgill's 
BEGIN:VTIMEZONE
TZID:America/Chicago 
END:VTIMEZONE
BEGIN:VEVENT
SEQUENCE:2
TRANSP:OPAQUE
UID:54617bfd2d5ed51f97b531b72b333642
DTSTART:20191208T180000
DTSTAMP:20191208T140153Z
SUMMARY:Williams Nite: A Tribute to the Music of Hank &amp; Lucinda Williams 
DESCRIPTION:Join us for the 9th "Kinda Annual" Williams Nite, a tribute to the music of Hank &amp; Lucinda Williams benefiting the SIMS Foundation. Artists include: Jeff Plankenhorn, Matt the Electrician, Susan Gibson, Jenny Reynolds, Barbara Nesbitt, Matt Giles, Jana Pochop, David Hamburger, American Dreamer, and Bob Livingston. Sun Radio's Jim Swift joins as emcee. $10 cover. 
CREATED:20191208T140153Z
URL;VALUE=URI:http://holdmyticket.com/event/352080 

DTEND:20191208T213000
END:VEVENT
END:VCALENDAR