BEGIN:VCALENDAR
METHOD:PUBLISH
X-WR-TIMEZONE:America/Denver
PRODID:-//Hold My Ticket.//HMT Web App//EN
CALSCALE:GREGORIAN
METHOD:PUBLISH
X-WR-CALNAME:Paradiso
X-WR-CALDESC:Upcoming events at Paradiso
BEGIN:VTIMEZONE
TZID:America/Denver 
END:VTIMEZONE
BEGIN:VEVENT
SEQUENCE:2
TRANSP:OPAQUE
UID:66b744172fb0552b0154e459f5db8077
DTSTART:20200222T193000
DTSTAMP:20200222T205021Z
SUMMARY:Beyond The Pale
DESCRIPTION:For over 20 years Toronto's Beyond the Pale has been making its distinctive brand of boundary-busting Eurofolk fusion. Inspired by Klezmer and Balkan styles but influenced by everything from jazz and classical music to bluegrass, newgrass and reggae, Beyond the Pale's music traverses a vast and exotic musical landscape, bound by no particular idiom and shaped by many. Their stellar musicianship, meticulous dynamics, adventurous compositions, and inventive arrangements of traditional material make them one of Canada's most innovative acoustic ensembles.
CREATED:20200222T205021Z
URL;VALUE=URI:http://holdmyticket.com/event/352151 

DTEND:20200222T213000
END:VEVENT
END:VCALENDAR