BEGIN:VCALENDAR
METHOD:PUBLISH
X-WR-TIMEZONE:America/Los_Angeles
PRODID:-//Hold My Ticket.//HMT Web App//EN
CALSCALE:GREGORIAN
METHOD:PUBLISH
X-WR-CALNAME:Downbeat Lounge
X-WR-CALDESC:Upcoming events at Downbeat Lounge
BEGIN:VTIMEZONE
TZID:America/Los_Angeles 
END:VTIMEZONE
BEGIN:VEVENT
SEQUENCE:2
TRANSP:OPAQUE
UID:4ad45e0ccd90a9f717679249b6be025b
DTSTART:20191207T190000
DTSTAMP:20191207T150154Z
SUMMARY:The Female Comics of Hawaii at Downbeat Lounge
DESCRIPTION:Ian Shippen hosts The Female Comics of Hawaii at Downbeat Lounge with sets by Brandi Morgan, Tiffany Yamaguchi, Blue James, Erika Swartzkopf and Jeremy Bautista. 

December 7
7:30 pm to 9:00 pm
21+
$12

Downbeat Lounge
42 N Hotel Street
Honolulu, HI 96817
CREATED:20191207T150154Z
URL;VALUE=URI:http://holdmyticket.com/event/353529 

DTEND:20191208T010000
END:VEVENT
END:VCALENDAR