BEGIN:VCALENDAR
METHOD:PUBLISH
X-WR-TIMEZONE:America/Los_Angeles
PRODID:-//Hold My Ticket.//HMT Web App//EN
CALSCALE:GREGORIAN
METHOD:PUBLISH
X-WR-CALNAME:Downbeat Lounge
X-WR-CALDESC:Upcoming events at Downbeat Lounge
BEGIN:VTIMEZONE
TZID:America/Los_Angeles 
END:VTIMEZONE
BEGIN:VEVENT
SEQUENCE:2
TRANSP:OPAQUE
UID:cb6772e1f4e00d2c1453756ef1b0a181
DTSTART:20191202T190000
DTSTAMP:20191202T150125Z
SUMMARY:Open Mic Mondays at Downbeat
DESCRIPTION:The Grind Entertainment presents Open Mic Mondays in Downbeat Lounge, a showcase for local unsigned talent. Sign-ups are at tgehawaii@gmail.com

December 9
7pm
21+
No Cover

Downbeat Lounge
42 N Hotel
Honolulu, HI 96817

The Grind Entertainment (TGE) is an Oahu based promotion company. TGE's purpose is to serve as a stepping stone for local artists to play bigger shows. Sign-ups are at tgehawaii@gmail.com and https://www.facebook.com/tgehawaii/
CREATED:20191202T150125Z
URL;VALUE=URI:http://holdmyticket.com/event/353530 

DTEND:20191203T010000
END:VEVENT
END:VCALENDAR