BEGIN:VCALENDAR
METHOD:PUBLISH
X-WR-TIMEZONE:America/Los_Angeles
PRODID:-//Hold My Ticket.//HMT Web App//EN
CALSCALE:GREGORIAN
METHOD:PUBLISH
X-WR-CALNAME:Downbeat Lounge
X-WR-CALDESC:Upcoming events at Downbeat Lounge
BEGIN:VTIMEZONE
TZID:America/Los_Angeles 
END:VTIMEZONE
BEGIN:VEVENT
SEQUENCE:2
TRANSP:OPAQUE
UID:a06b77711aa6a118f27b9689495a3c69
DTSTART:20191209T190000
DTSTAMP:20191209T150201Z
SUMMARY:Open Mic Mondays at Downbeat
DESCRIPTION:The Grind Entertainment presents Open Mic Mondays in Downbeat Lounge, a showcase for local unsigned talent. Sign-ups are at tgehawaii@gmail.com

December 9
7pm
21+
No Cover

Downbeat Lounge
42 N Hotel
Honolulu, HI 96817

The Grind Entertainment (TGE) is an Oahu based promotion company. TGE's purpose is to serve as a stepping stone for local artists to play bigger shows. Sign-ups are at tgehawaii@gmail.com and https://www.facebook.com/tgehawaii/
CREATED:20191209T150201Z
URL;VALUE=URI:http://holdmyticket.com/event/353532 

DTEND:20191210T010000
END:VEVENT
END:VCALENDAR