BEGIN:VCALENDAR
METHOD:PUBLISH
X-WR-TIMEZONE:America/Boise
PRODID:-//Hold My Ticket.//HMT Web App//EN
CALSCALE:GREGORIAN
METHOD:PUBLISH
X-WR-CALNAME:Eldorado Hotel & Spa
X-WR-CALDESC:Upcoming events at Eldorado Hotel & Spa
BEGIN:VTIMEZONE
TZID:America/Boise 
END:VTIMEZONE
BEGIN:VEVENT
SEQUENCE:2
TRANSP:OPAQUE
UID:c0af39d014e97228bbbfedeb9e97d6f6
DTSTART:20200209T170000
DTSTAMP:20200209T130144Z
SUMMARY:Brandi's 12th Annual Oscars
DESCRIPTION:
CREATED:20200209T130144Z
URL;VALUE=URI:http://holdmyticket.com/event/354010 

DTEND:20200209T230000
END:VEVENT
END:VCALENDAR